BEGIN:VCALENDAR
VERSION:2.0
PRODID: -//CMS 5.0 //NONSGML //DE
BEGIN:VEVENT
SUMMARY:Gospelkonzert in Gotha
DESCRIPTION:Achtung, Achtung, Gospel-Freunde!\n\nIm August ist es wieder
  soweit: In Gotha dürfen wir gemeinsam das zweite offizielle Konzert n
 ach unserem Re-Start erleben. Ihr seid herzlich eingeladen.\n\nErlebe e
 in Gospelkonzert live.\n\nDer Eintritt ist frei.\n\nWeitere Info´s sin
 d auf der Homepage des Gospelprojektes zu erfahren.\n\n\n\nhttps://ilme
 nau.nak-nordost.de/db/380860
UID:380860@ilmenau.nak-nordost.de
LOCATION:Pr Benjamin Solbrig
CATEGORIES:Kirchenbezirk Gotha (Alle Gemeinden),Kirchenbezirk Gotha
X-ORGANIZER:
STATUS:CONFIRMED
CLASS:PUBLIC
DTSTART:20240831T150000Z
DTEND:20240831T150000Z
DTSTAMP:20260421T162157Z
CREATED:20240731T073621Z
LAST-MODIFIED:20240731T091458Z
BEGIN:VALARM
UID:37B76A5A-3D9E-11F1-ABA0-550D5C29324C
TRIGGER:-PT60M
ACTION:DISPLAY
DESCRIPTION:SUMMARY:Gospelkonzert in Gotha
END:VALARM
END:VEVENT
END:VCALENDAR
